BEGIN:VCALENDAR
VERSION:2.0
PRODID:spatie/icalendar-generator
DESCRIPTION:Events from Kirby Muxloe Archery Club
X-WR-CALDESC:Events from Kirby Muxloe Archery Club
REFRESH-INTERVAL;VALUE=DURATION:PT1440M
X-PUBLISHED-TTL:PT1440M
BEGIN:VTIMEZONE
TZID:Europe/London
BEGIN:STANDARD
DTSTART:20251026T020000Z
TZOFFSETFROM:+0100
TZOFFSETTO:+0000
END:STANDARD
BEGIN:DAYLIGHT
DTSTART:20260329T010000Z
TZOFFSETFROM:+0000
TZOFFSETTO:+0100
END:DAYLIGHT
BEGIN:STANDARD
DTSTART:20261025T020000Z
TZOFFSETFROM:+0100
TZOFFSETTO:+0000
END:STANDARD
END:VTIMEZONE
BEGIN:VTIMEZONE
TZID:UTC
BEGIN:STANDARD
DTSTART:20250724T133737Z
TZOFFSETFROM:+0000
TZOFFSETTO:+0000
END:STANDARD
END:VTIMEZONE
BEGIN:VEVENT
UID:243-63
DTSTAMP:20260420T133737Z
SUMMARY:Archery Practice
LOCATION:Jubilee Playing Fields Altar Stones Lane  Markfield Leicestershire
  LE67 9PX
ORGANIZER;CN=Matt Martin:MAILTO:neonpossum@gmail.com
RRULE:FREQ=WEEKLY;UNTIL=20260927T000000Z
DTSTART;TZID=Europe/London:20260425T090000
DTEND;TZID=Europe/London:20260425T110000
X-ALT-DESC;FMTTYPE=TEXT/HTML:
CATEGORIES:Practice
URL;VALUE=URI:https://www.k-m-a-c.org/mc-events/archery-practice-8/?mc_id=2
 43
METHOD:PUBLISH
END:VEVENT
END:VCALENDAR