BEGIN:VCALENDAR
VERSION:2.0
PRODID:spatie/icalendar-generator
DESCRIPTION:Events from Kirby Muxloe Archery Club
X-WR-CALDESC:Events from Kirby Muxloe Archery Club
REFRESH-INTERVAL;VALUE=DURATION:PT1440M
X-PUBLISHED-TTL:PT1440M
BEGIN:VTIMEZONE
TZID:Europe/London
BEGIN:STANDARD
DTSTART:20251026T020000Z
TZOFFSETFROM:+0100
TZOFFSETTO:+0000
END:STANDARD
BEGIN:DAYLIGHT
DTSTART:20260329T010000Z
TZOFFSETFROM:+0000
TZOFFSETTO:+0100
END:DAYLIGHT
END:VTIMEZONE
BEGIN:VTIMEZONE
TZID:UTC
BEGIN:STANDARD
DTSTART:20250728T155241Z
TZOFFSETFROM:+0000
TZOFFSETTO:+0000
END:STANDARD
END:VTIMEZONE
BEGIN:VEVENT
UID:183-54
DTSTAMP:20260424T155241Z
SUMMARY:Archery Practice
LOCATION:Brookvale Groby Campus Brookvale Groby Learning Campus Ratby Road 
 Groby Leicestershire LE6 0FP
ORGANIZER;CN=Matt Martin:MAILTO:neonpossum@gmail.com
RRULE:FREQ=WEEKLY;UNTIL=20260401T000000Z
DTSTART;TZID=Europe/London:20260328T093000
DTEND;TZID=Europe/London:20260328T113000
X-ALT-DESC;FMTTYPE=TEXT/HTML:Members shoot at: Brookvale Groby Learning Cam
 pus\, Ratby Rd\, Groby\, Leicester LE6 0FP Tuesday 19:00 to 21:00 Friday
  18:30 to 20:30 Saturday 09:30 to 11:30
CATEGORIES:Practice
URL;VALUE=URI:https://www.k-m-a-c.org/mc-events/archery-practice-3/?mc_id=1
 83
METHOD:PUBLISH
END:VEVENT
END:VCALENDAR