BEGIN:VCALENDAR
VERSION:2.0
PRODID:spatie/icalendar-generator
DESCRIPTION:Events from Kirby Muxloe Archery Club
X-WR-CALDESC:Events from Kirby Muxloe Archery Club
REFRESH-INTERVAL;VALUE=DURATION:PT1440M
X-PUBLISHED-TTL:PT1440M
BEGIN:VTIMEZONE
TZID:Europe/London
BEGIN:STANDARD
DTSTART:20241027T020000Z
TZOFFSETFROM:+0100
TZOFFSETTO:+0000
END:STANDARD
BEGIN:DAYLIGHT
DTSTART:20250330T010000Z
TZOFFSETFROM:+0000
TZOFFSETTO:+0100
END:DAYLIGHT
END:VTIMEZONE
BEGIN:VTIMEZONE
TZID:UTC
BEGIN:STANDARD
DTSTART:20250727T234211Z
TZOFFSETFROM:+0000
TZOFFSETTO:+0000
END:STANDARD
END:VTIMEZONE
BEGIN:VEVENT
UID:135-25
DTSTAMP:20260423T234211Z
SUMMARY:Taster Session
LOCATION:Brookvale Groby Campus Brookvale Groby Learning Campus Ratby Road 
 Groby Leicestershire LE6 0FP
ORGANIZER;CN=Matt Martin:MAILTO:neonpossum@gmail.com
DTSTART;TZID=Europe/London:20250404T184500
DTEND;TZID=Europe/London:20250404T201500
X-ALT-DESC;FMTTYPE=TEXT/HTML:
CATEGORIES:Competitions
URL;VALUE=URI:https://www.k-m-a-c.org/mc-events/taster-session-7/
METHOD:PUBLISH
END:VEVENT
END:VCALENDAR